BEGIN:VCALENDAR
VERSION:2.0
PRODID:-//hacksw/handcal//NONSGML v1.0//EN
BEGIN:VEVENT
DTSTAMP:20200218T170000Z
DTSTART:20200218T170000Z
DTEND:20200218T170000Z
LOCATION:Rathaus, Rathausstr. 18, Ruppichteroth, 53809, Deutschland
SUMMARY:Sitzung des Hauptausschusses
END:VEVENT
END:VCALENDAR
