BEGIN:VCALENDAR
VERSION:2.0
PRODID:-//hacksw/handcal//NONSGML v1.0//EN
BEGIN:VEVENT
DTSTAMP:20201005T170000Z
DTSTART:20201005T170000Z
DTEND:20201005T170000Z
LOCATION:Grundschule, Ruppichteroh, 53809, Deutschland
SUMMARY:Sitzung der CDU-Fraktion
END:VEVENT
END:VCALENDAR
